BEGIN:VCALENDAR
VERSION:2.0
PRODID:-//La voie de Célony - ECPv6.8.3//NONSGML v1.0//EN
CALSCALE:GREGORIAN
METHOD:PUBLISH
X-ORIGINAL-URL:https://lavoiedecelony.com
X-WR-CALDESC:Évènements pour La voie de Célony
REFRESH-INTERVAL;VALUE=DURATION:PT1H
X-Robots-Tag:noindex
X-PUBLISHED-TTL:PT1H
BEGIN:VTIMEZONE
TZID:Europe/Paris
BEGIN:DAYLIGHT
TZOFFSETFROM:+0100
TZOFFSETTO:+0200
TZNAME:CEST
DTSTART:20240331T010000
END:DAYLIGHT
BEGIN:STANDARD
TZOFFSETFROM:+0200
TZOFFSETTO:+0100
TZNAME:CET
DTSTART:20241027T010000
END:STANDARD
END:VTIMEZONE
BEGIN:VEVENT
DTSTART;TZID=Europe/Paris:20240212T090000
DTEND;TZID=Europe/Paris:20240412T170000
DTSTAMP:20260421T012437
CREATED:20240222T191532Z
LAST-MODIFIED:20240229T113249Z
UID:2696-1707728400-1712941200@lavoiedecelony.com
SUMMARY:Inscription à l'école
DESCRIPTION:Les inscriptions scolaires pour la rentrée 2024/2025 ont commencé : \n\nInscriptions pour l’école publique du 12 février 2024 au 12 avril 2024.\nInscriptions périscolaires du 02 avril 2024 au 15 juillet 2024.\n\nVous trouverez en cliquant sur ce lien : https://www.aixenprovence.fr/Inscriptions-scolaires-et-periscolaires-rentree-2024-2025  toutes les informations et les formulaires vous permettant de procéder à l’inscription scolaire de votre/vos enfants à l’école publique\, aux temps périscolaires et à la restauration scolaire.
URL:https://lavoiedecelony.com/agenda/inscription-a-lecole/
LOCATION:Célony\, Célony
ATTACH;FMTTYPE=image/png:https://lavoiedecelony.com/wp-content/uploads/2024/02/Capture-decran-2024-02-22-a-20.14.22.png
END:VEVENT
BEGIN:VEVENT
DTSTART;TZID=Europe/Paris:20240220T090000
DTEND;TZID=Europe/Paris:20240404T120000
DTSTAMP:20260421T012437
CREATED:20240222T184149Z
LAST-MODIFIED:20240229T113316Z
UID:2685-1708419600-1712232000@lavoiedecelony.com
SUMMARY:Enquête publique relative au Plan Local d’Urbanisme intercommunal
DESCRIPTION:Voici les dates des permanences sur la Mairie Annexe de Puyricard : \n– Vendredi 23 février de 9h à 12h \n– Vendredi 1er mars de 9h à 12h \n– Vendredi 8 mars de 9h à 12h \n– Lundi 11 mars de 9h à 12h \n– Vendredi 15 mars de 9h à 12h \n– Vendredi 22 mars de 9h à 12h \n– Vendredi 29 mars de 9h à 12h \n  \nToutes les infos concernant les permanences sont ici : \nhttps://www.aixenprovence.fr/Permanences-enquete-publique-sur-le-PLUi-du-Pays-d-Aix#docs \nPour les infos concernant le PLUI c’est ici : \nhttps://ampmetropole.fr/missions/amenagement-du-territoire-et-urbanisme/planification-et-urbanisme/pays-daix/ \nPour consulter le PLUI sur sa carte interactive c’est ici : \nhttps://experience.arcgis.com/experience/63f2a06902094415afb1c6e22d36ea12 \nPour déposer vos contributions c’est ici : \nhttps://www.registre-numerique.fr/enquetepublique-plui-paysdaix
URL:https://lavoiedecelony.com/agenda/enquete-publique-relative-au-plan-local-durbanisme-intercommunal/
LOCATION:Puyricard\, Puyricard\, France
ATTACH;FMTTYPE=image/png:https://lavoiedecelony.com/wp-content/uploads/2024/02/Capture-decran-2024-02-22-a-19.38.58.png
END:VEVENT
BEGIN:VEVENT
DTSTART;TZID=Europe/Paris:20240401T100000
DTEND;TZID=Europe/Paris:20240401T120000
DTSTAMP:20260421T012437
CREATED:20240310T225517Z
LAST-MODIFIED:20240317T204909Z
UID:2869-1711965600-1711972800@lavoiedecelony.com
SUMMARY:Chasse aux œufs
DESCRIPTION:Happy Célony organise cette année la première « Chasse aux œufs » du quartier en partenariat avec la Maison de retraite Saint Victoire qui nous permet d’organiser cette animation dans ses jardins\, dans un cadre sécurisé et accueillant. \nC’est aussi l’occasion d’aller à la rencontre de nos ainés\, et de partager avec eux un moment d’échange et de convivialité\, autour d’une animation qui rassemble petits et grands. \nPour cette animation\, une petite participation financière est demandée cette année à hauteur de 3 € par enfant et nous fonctionnons sur inscription afin que chaque enfant qui participe puisse effectivement repartir avec du chocolat. \nLes places sont limitées alors pensez à réserver dès que possible ! Pour s’inscrire c’est ici : \nhttps://www.helloasso.com/associations/la-voie-de-celony/evenements/chasse-aux-oeufs \nD’autant que cette année le lundi de Pâques tombe un 1er avril et ça nous donne quelques idées\, à découvrir le jour J ! 😉 \nLors de la validation du paiement\, Hello Asso vous demande une participation financière supplémentaire de quelques euros. Vous avez le choix de contribuer ou non au fonctionnement de HelloAsso\, il suffit de cliquer sur modifier pour changer ce chiffre. \nLa chasse est réservée aux enfants de 2 à 10 ans (crèche\, maternelle et primaire) – Elle se déroulera dans les jardins de la maison de retraite Saint Victoire (Chemin d’Eguilles). \nLes enfants de plus de 10 ans sont également les bienvenus pour participer aux ateliers bricolages. \nAttention\, l’accès des voitures au parking de la maison de retraite est interdit\, il faudra se garer dans le centre de Célony. L’accès aux animations se fera par le portillon du portail livraison et non par le portail visiteur (le portail le plus près du centre village). Nous vous accueillerons sur place. \nPour résumer le programme : \n\n10h à 12h Atelier bricolage sur le thème de Pâques ouvert aux enfants de tout âge. Nous serons accompagnés des résidents de la maison de retraite qui auront plaisir à se joindre à nous.\n11h ouverture de la chasse aux œufs sur 2 espaces distincts dans les jardins\, l’une pour les enfants de 2 à 6 ans (crèche et maternelle) et l’autre pour les enfants de 6 à 10 ans (Primaire).\n\nAu plaisir de vous retrouver !
URL:https://lavoiedecelony.com/agenda/chasse-aux-oeufs/
ATTACH;FMTTYPE=image/jpeg:https://lavoiedecelony.com/wp-content/uploads/2024/03/Chasse-aux-oeufs-Happy-Celony-copie.jpg
END:VEVENT
BEGIN:VEVENT
DTSTART;TZID=Europe/Paris:20240405T090000
DTEND;TZID=Europe/Paris:20240406T160000
DTSTAMP:20260421T012437
CREATED:20240328T203106Z
LAST-MODIFIED:20240328T203537Z
UID:2903-1712307600-1712419200@lavoiedecelony.com
SUMMARY:Opération broyage de végétaux
DESCRIPTION:Les 5 et 6 avril 2024 de 9h à 16h \, la Métropole Aix-Marseille-Provence organise une opération broyage de végétaux sur le parking du stade Fernand Bouteille à Puyricard .\n\nVenez avec vos branchages jusqu’à 10 cm de diamètre et repartez avec votre broyat pour pailler vos sols.\n\nL’événement est gratuit !
URL:https://lavoiedecelony.com/agenda/operation-broyage-de-vegetais/
LOCATION:Stade Fernand Bouteille\, Puyricard\, Parking du Stade Fernand Bouteille\, Puyricard
ATTACH;FMTTYPE=image/png:https://lavoiedecelony.com/wp-content/uploads/2024/03/dechets-verts.png
END:VEVENT
BEGIN:VEVENT
DTSTART;TZID=Europe/Paris:20240430T083000
DTEND;TZID=Europe/Paris:20240430T121500
DTSTAMP:20260421T012437
CREATED:20240328T203857Z
LAST-MODIFIED:20240328T203957Z
UID:2911-1714465800-1714479300@lavoiedecelony.com
SUMMARY:Permanence avec un conseiller France services
DESCRIPTION:Afin de continuer au mieux à vous aider dans vos démarches\, voici une nouvelle date pour les permanences avec un conseiller France services.\n\n\nPour rappel un conseiller Maison France Services peut vous accompagner dans toutes vos démarches administratives en lien avec nos 9 partenaires (Finances publiques\, l’Assurance Retraite\, l’Assurance Maladie\, la CAF\, le Pôle Emploi\, l’Agence nationale des titres sécurisés\, la MSA\, Point Justice\, La Poste) :\n\n     -Le mardi 30 avril 2024 de 8h30 à 12h15.\n                              \n\nTOUTES LES PERMANENCES SONT UNIQUEMENT SUR RENDEZ-VOUS DANS LE CRÉNEAU HORAIRE INDIQUÉ CI-DESSUS.\n\nMerci de prendre contact auprès de la mairie annexe de Puyricard au 04.88.71.74.25.
URL:https://lavoiedecelony.com/agenda/2911/
LOCATION:Mairie annexe\, Puyricard
ATTACH;FMTTYPE=image/png:https://lavoiedecelony.com/wp-content/uploads/2024/02/Capture-decran-2024-02-22-a-20.00.20.png
END:VEVENT
END:VCALENDAR