BEGIN:VCALENDAR
VERSION:2.0
PRODID:-//La voie de Célony - ECPv6.8.3//NONSGML v1.0//EN
CALSCALE:GREGORIAN
METHOD:PUBLISH
X-ORIGINAL-URL:https://lavoiedecelony.com
X-WR-CALDESC:Évènements pour La voie de Célony
REFRESH-INTERVAL;VALUE=DURATION:PT1H
X-Robots-Tag:noindex
X-PUBLISHED-TTL:PT1H
BEGIN:VTIMEZONE
TZID:Europe/Paris
BEGIN:DAYLIGHT
TZOFFSETFROM:+0100
TZOFFSETTO:+0200
TZNAME:CEST
DTSTART:20250330T010000
END:DAYLIGHT
BEGIN:STANDARD
TZOFFSETFROM:+0200
TZOFFSETTO:+0100
TZNAME:CET
DTSTART:20251026T010000
END:STANDARD
END:VTIMEZONE
BEGIN:VEVENT
DTSTART;TZID=Europe/Paris:20250323T093000
DTEND;TZID=Europe/Paris:20250323T130000
DTSTAMP:20260420T110831
CREATED:20250326T084419Z
LAST-MODIFIED:20250326T084419Z
UID:3260-1742722200-1742734800@lavoiedecelony.com
SUMMARY:Troc de plantes
DESCRIPTION:Cette matinée sera dédiée au Troc de plantes\, intérieures\, extérieures\, semis\, graines\, rejets …mais aussi au petit matériel de jardin et même aux livres consacrés au jardin. \nÀ votre arrivée\, vos plantes seront installées sur les différentes tables d’échange par catégorie. Vous pourrez ensuite sélectionner les plantes qui vous intéressent. \nPour des trocs spécifiques (plantes ou graines\, troc de service …) un tableau d’échange sera installé pour affichage de votre recherche. \nPensez aussi à étiqueter vos trocs pour donner le maximum d’informations aux participants. \nPour les matinaux qui viendront nous aider à installer les tables à 9h00\, le café sera offert ! \nPetite buvette et toilettes sur place.
URL:https://lavoiedecelony.com/agenda/troc-de-plantes/
LOCATION:Célony\, Célony
ATTACH;FMTTYPE=image/jpeg:https://lavoiedecelony.com/wp-content/uploads/2025/03/trocdesplantes.jpg
END:VEVENT
END:VCALENDAR